Workbook

Sheet Uitleg
H3: UITLEG
H5: Op tabblad invoer:
H6: 1. | I6: vul in kolom B het bedrag in
H7: 2. | I7: Kies in kolom C met het drop-down menu (pijltje rechts) of dit bedrag per maand, kwartaal of jaar is.
H8: 3. | I8: Indien het een kwartaalbedrag is, vul in kolom F in in welke maand van het kwartaal het bedrag wordt afgeschreven
H9: 4. | I9: Op regel 35 t/m 39 kun je indien nodig extra categorieën toevoegen
H11: Op tabblad maandoverzicht zie je vervolgens hoeveel je iedere maand uitgeeft. Jaarkosten worden evenredig over het jaar verdeeld

Sheet Invoer
F2: Wakker Vermogen
F3: Maarten Wolfs
F4: maarten@wakkervermogen.nl
F5: 06-52637916
C8: selecteren uit lijst met pijltje | F8: kwartaalstart (bij kwartaal)
B9: invullen
A11: Omschrijving | B11: bedrag | C11: per | E11: per jaar | F11: kwartaalstart
A12: uitgaven
A13: hypotheek/huur | B13: 1200 | C13: jaar | E13: =IF(C13="maand",B13*12,IF(C13="kwartaal",B13*4,B13)) -> 1200 | F13: jan
A14: levensverzekering | E14: =IF(C14="maand",B14*12,IF(C14="kwartaal",B14*4,B14)) -> 0
A15: boodschappen | E15: =IF(C15="maand",B15*12,IF(C15="kwartaal",B15*4,B15)) -> 0
A16: oppas / creche | E16: =IF(C16="maand",B16*12,IF(C16="kwartaal",B16*4,B16)) -> 0
A17: TV / Internet | E17: =IF(C17="maand",B17*12,IF(C17="kwartaal",B17*4,B17)) -> 0
A18: Mobiele telefonie | E18: =IF(C18="maand",B18*12,IF(C18="kwartaal",B18*4,B18)) -> 0
A19: schoonmaker | E19: =IF(C19="maand",B19*12,IF(C19="kwartaal",B19*4,B19)) -> 0
A20: glazenwasser | E20: =IF(C20="maand",B20*12,IF(C20="kwartaal",B20*4,B20)) -> 0
A21: Streamingdiensten (Netflix / spotify) etc. | E21: =IF(C21="maand",B21*12,IF(C21="kwartaal",B21*4,B21)) -> 0
A22: Gas / electra | E22: =IF(C22="maand",B22*12,IF(C22="kwartaal",B22*4,B22)) -> 0
A23: Gemeentebelasting, waterbelasting, etc. | E23: =IF(C23="maand",B23*12,IF(C23="kwartaal",B23*4,B23)) -> 0
A24: verzekeringen (opstal, inboedel, WA, rechtsbijstand, etc.) | E24: =IF(C24="maand",B24*12,IF(C24="kwartaal",B24*4,B24)) -> 0
A25: ziektekostenverzekering | E25: =IF(C25="maand",B25*12,IF(C25="kwartaal",B25*4,B25)) -> 0
... A39: overig 5 | E39: =IF(C39="maand",B39*12,IF(C39="kwartaal",B39*4,B39)) -> 0
D42: Totaal uitgaven | E42: =SUM(E13:E41) -> 1200
D43: Excl hypotheek | E43: =E42-E13 -> 0
D46: Totaal saldo | E46: =#REF!-E43 -> #REF!

Sheet Maandoverzicht
A1: Maandoverzicht — inkomsten & uitgaven
A2: Omschrijving | B2: jan | C2: feb | D2: mrt | E2: apr | F2: mei | G2: jun | H2: jul | I2: aug | J2: sep | K2: okt | L2: nov | M2: dec | N2: Totaal jaar | O2: Gem/maand
A3: UITGAVEN
A4: hypotheek/huur | B4: =IF(Invoer!C13="maand",Invoer!B13,IF(Invoer!C13="kwartaal",IF(Invoer!F13="jan",Invoer!B13,0),IF(Invoer!C13="jaar",ROUND(Invoer!B13/12,2),0))) -> 100 | C4: =IF(Invoer!C13="maand",Invoer!B13,IF(Invoer!C13="kwartaal",IF(Invoer!F13="feb",Invoer!B13,0),IF(Invoer!C13="jaar",ROUND(Invoer!B13/12,2),0))) -> 100 | D4: =IF(Invoer!C13="maand",Invoer!B13,IF(Invoer!C13="kwartaal",IF(Invoer!F13="mrt",Invoer!B13,0),IF(Invoer!C13="jaar",ROUND(Invoer!B13/12,2),0))) -> 100 | E4: =IF(Invoer!C13="maand",Invoer!B13,IF(Invoer!C13="kwartaal",IF(Invoer!F13="jan",Invoer!B13,0),IF(Invoer!C13="jaar",ROUND(Invoer!B13/12,2),0))) -> 100 | F4: =IF(Invoer!C13="maand",Invoer!B13,IF(Invoer!C13="kwartaal",IF(Invoer!F13="feb",Invoer!B13,0),IF(Invoer!C13="jaar",ROUND(Invoer!B13/12,2),0))) -> 100 | G4: =IF(Invoer!C13="maand",Invoer!B13,IF(Invoer!C13="kwartaal",IF(Invoer!F13="mrt",Invoer!B13,0),IF(Invoer!C13="jaar",ROUND(Invoer!B13/12,2),0))) -> 100 | H4: =IF(Invoer!C13="maand",Invoer!B13,IF(Invoer!C13="kwartaal",IF(Invoer!F13="jan",Invoer!B13,0),IF(Invoer!C13="jaar",ROUND(Invoer!B13/12,2),0))) -> 100 | I4: =IF(Invoer!C13="maand",Invoer!B13,IF(Invoer!C13="kwartaal",IF(Invoer!F13="feb",Invoer!B13,0),IF(Invoer!C13="jaar",ROUND(Invoer!B13/12,2),0))) -> 100 | J4: =IF(Invoer!C13="maand",Invoer!B13,IF(Invoer!C13="kwartaal",IF(Invoer!F13="mrt",Invoer!B13,0),IF(Invoer!C13="jaar",ROUND(Invoer!B13/12,2),0))) -> 100 | K4: =IF(Invoer!C13="maand",Invoer!B13,IF(Invoer!C13="kwartaal",IF(Invoer!F13="jan",Invoer!B13,0),IF(Invoer!C13="jaar",ROUND(Invoer!B13/12,2),0))) -> 100 | L4: =IF(Invoer!C13="maand",Invoer!B13,IF(Invoer!C13="kwartaal",IF(Invoer!F13="feb",Invoer!B13,0),IF(Invoer!C13="jaar",ROUND(Invoer!B13/12,2),0))) -> 100 | M4: =IF(Invoer!C13="maand",Invoer!B13,IF(Invoer!C13="kwartaal",IF(Invoer!F13="mrt",Invoer!B13,0),IF(Invoer!C13="jaar",ROUND(Invoer!B13/12,2),0))) -> 100 | N4: =SUM(B4:M4) -> 1200 | O4: =N4/12 -> 100
A5: levensverzekering | B5: =IF(Invoer!C14="maand",Invoer!B14,IF(Invoer!C14="kwartaal",IF(Invoer!F14="jan",Invoer!B14,0),IF(Invoer!C14="jaar",ROUND(Invoer!B14/12,2),0))) -> 0 | C5: =IF(Invoer!C14="maand",Invoer!B14,IF(Invoer!C14="kwartaal",IF(Invoer!F14="feb",Invoer!B14,0),IF(Invoer!C14="jaar",ROUND(Invoer!B14/12,2),0))) -> 0 | D5: =IF(Invoer!C14="maand",Invoer!B14,IF(Invoer!C14="kwartaal",IF(Invoer!F14="mrt",Invoer!B14,0),IF(Invoer!C14="jaar",ROUND(Invoer!B14/12,2),0))) -> 0 | E5: =IF(Invoer!C14="maand",Invoer!B14,IF(Invoer!C14="kwartaal",IF(Invoer!F14="jan",Invoer!B14,0),IF(Invoer!C14="jaar",ROUND(Invoer!B14/12,2),0))) -> 0 | F5: =IF(Invoer!C14="maand",Invoer!B14,IF(Invoer!C14="kwartaal",IF(Invoer!F14="feb",Invoer!B14,0),IF(Invoer!C14="jaar",ROUND(Invoer!B14/12,2),0))) -> 0 | G5: =IF(Invoer!C14="maand",Invoer!B14,IF(Invoer!C14="kwartaal",IF(Invoer!F14="mrt",Invoer!B14,0),IF(Invoer!C14="jaar",ROUND(Invoer!B14/12,2),0))) -> 0 | H5: =IF(Invoer!C14="maand",Invoer!B14,IF(Invoer!C14="kwartaal",IF(Invoer!F14="jan",Invoer!B14,0),IF(Invoer!C14="jaar",ROUND(Invoer!B14/12,2),0))) -> 0 | I5: =IF(Invoer!C14="maand",Invoer!B14,IF(Invoer!C14="kwartaal",IF(Invoer!F14="feb",Invoer!B14,0),IF(Invoer!C14="jaar",ROUND(Invoer!B14/12,2),0))) -> 0 | J5: =IF(Invoer!C14="maand",Invoer!B14,IF(Invoer!C14="kwartaal",IF(Invoer!F14="mrt",Invoer!B14,0),IF(Invoer!C14="jaar",ROUND(Invoer!B14/12,2),0))) -> 0 | K5: =IF(Invoer!C14="maand",Invoer!B14,IF(Invoer!C14="kwartaal",IF(Invoer!F14="jan",Invoer!B14,0),IF(Invoer!C14="jaar",ROUND(Invoer!B14/12,2),0))) -> 0 | L5: =IF(Invoer!C14="maand",Invoer!B14,IF(Invoer!C14="kwartaal",IF(Invoer!F14="feb",Invoer!B14,0),IF(Invoer!C14="jaar",ROUND(Invoer!B14/12,2),0))) -> 0 | M5: =IF(Invoer!C14="maand",Invoer!B14,IF(Invoer!C14="kwartaal",IF(Invoer!F14="mrt",Invoer!B14,0),IF(Invoer!C14="jaar",ROUND(Invoer!B14/12,2),0))) -> 0 | N5: =SUM(B5:M5) -> 0 | O5: =N5/12 -> 0
A6: boodschappen | B6: =IF(Invoer!C15="maand",Invoer!B15,IF(Invoer!C15="kwartaal",IF(Invoer!F15="jan",Invoer!B15,0),IF(Invoer!C15="jaar",ROUND(Invoer!B15/12,2),0))) -> 0 | C6: =IF(Invoer!C15="maand",Invoer!B15,IF(Invoer!C15="kwartaal",IF(Invoer!F15="feb",Invoer!B15,0),IF(Invoer!C15="jaar",ROUND(Invoer!B15/12,2),0))) -> 0 | D6: =IF(Invoer!C15="maand",Invoer!B15,IF(Invoer!C15="kwartaal",IF(Invoer!F15="mrt",Invoer!B15,0),IF(Invoer!C15="jaar",ROUND(Invoer!B15/12,2),0))) -> 0 | E6: =IF(Invoer!C15="maand",Invoer!B15,IF(Invoer!C15="kwartaal",IF(Invoer!F15="jan",Invoer!B15,0),IF(Invoer!C15="jaar",ROUND(Invoer!B15/12,2),0))) -> 0 | F6: =IF(Invoer!C15="maand",Invoer!B15,IF(Invoer!C15="kwartaal",IF(Invoer!F15="feb",Invoer!B15,0),IF(Invoer!C15="jaar",ROUND(Invoer!B15/12,2),0))) -> 0 | G6: =IF(Invoer!C15="maand",Invoer!B15,IF(Invoer!C15="kwartaal",IF(Invoer!F15="mrt",Invoer!B15,0),IF(Invoer!C15="jaar",ROUND(Invoer!B15/12,2),0))) -> 0 | H6: =IF(Invoer!C15="maand",Invoer!B15,IF(Invoer!C15="kwartaal",IF(Invoer!F15="jan",Invoer!B15,0),IF(Invoer!C15="jaar",ROUND(Invoer!B15/12,2),0))) -> 0 | I6: =IF(Invoer!C15="maand",Invoer!B15,IF(Invoer!C15="kwartaal",IF(Invoer!F15="feb",Invoer!B15,0),IF(Invoer!C15="jaar",ROUND(Invoer!B15/12,2),0))) -> 0 | J6: =IF(Invoer!C15="maand",Invoer!B15,IF(Invoer!C15="kwartaal",IF(Invoer!F15="mrt",Invoer!B15,0),IF(Invoer!C15="jaar",ROUND(Invoer!B15/12,2),0))) -> 0 | K6: =IF(Invoer!C15="maand",Invoer!B15,IF(Invoer!C15="kwartaal",IF(Invoer!F15="jan",Invoer!B15,0),IF(Invoer!C15="jaar",ROUND(Invoer!B15/12,2),0))) -> 0 | L6: =IF(Invoer!C15="maand",Invoer!B15,IF(Invoer!C15="kwartaal",IF(Invoer!F15="feb",Invoer!B15,0),IF(Invoer!C15="jaar",ROUND(Invoer!B15/12,2),0))) -> 0 | M6: =IF(Invoer!C15="maand",Invoer!B15,IF(Invoer!C15="kwartaal",IF(Invoer!F15="mrt",Invoer!B15,0),IF(Invoer!C15="jaar",ROUND(Invoer!B15/12,2),0))) -> 0 | N6: =SUM(B6:M6) -> 0 | O6: =N6/12 -> 0
A7: oppas / creche | B7: =IF(Invoer!C16="maand",Invoer!B16,IF(Invoer!C16="kwartaal",IF(Invoer!F16="jan",Invoer!B16,0),IF(Invoer!C16="jaar",ROUND(Invoer!B16/12,2),0))) -> 0 | C7: =IF(Invoer!C16="maand",Invoer!B16,IF(Invoer!C16="kwartaal",IF(Invoer!F16="feb",Invoer!B16,0),IF(Invoer!C16="jaar",ROUND(Invoer!B16/12,2),0))) -> 0 | D7: =IF(Invoer!C16="maand",Invoer!B16,IF(Invoer!C16="kwartaal",IF(Invoer!F16="mrt",Invoer!B16,0),IF(Invoer!C16="jaar",ROUND(Invoer!B16/12,2),0))) -> 0 | E7: =IF(Invoer!C16="maand",Invoer!B16,IF(Invoer!C16="kwartaal",IF(Invoer!F16="jan",Invoer!B16,0),IF(Invoer!C16="jaar",ROUND(Invoer!B16/12,2),0))) -> 0 | F7: =IF(Invoer!C16="maand",Invoer!B16,IF(Invoer!C16="kwartaal",IF(Invoer!F16="feb",Invoer!B16,0),IF(Invoer!C16="jaar",ROUND(Invoer!B16/12,2),0))) -> 0 | G7: =IF(Invoer!C16="maand",Invoer!B16,IF(Invoer!C16="kwartaal",IF(Invoer!F16="mrt",Invoer!B16,0),IF(Invoer!C16="jaar",ROUND(Invoer!B16/12,2),0))) -> 0 | H7: =IF(Invoer!C16="maand",Invoer!B16,IF(Invoer!C16="kwartaal",IF(Invoer!F16="jan",Invoer!B16,0),IF(Invoer!C16="jaar",ROUND(Invoer!B16/12,2),0))) -> 0 | I7: =IF(Invoer!C16="maand",Invoer!B16,IF(Invoer!C16="kwartaal",IF(Invoer!F16="feb",Invoer!B16,0),IF(Invoer!C16="jaar",ROUND(Invoer!B16/12,2),0))) -> 0 | J7: =IF(Invoer!C16="maand",Invoer!B16,IF(Invoer!C16="kwartaal",IF(Invoer!F16="mrt",Invoer!B16,0),IF(Invoer!C16="jaar",ROUND(Invoer!B16/12,2),0))) -> 0 | K7: =IF(Invoer!C16="maand",Invoer!B16,IF(Invoer!C16="kwartaal",IF(Invoer!F16="jan",Invoer!B16,0),IF(Invoer!C16="jaar",ROUND(Invoer!B16/12,2),0))) -> 0 | L7: =IF(Invoer!C16="maand",Invoer!B16,IF(Invoer!C16="kwartaal",IF(Invoer!F16="feb",Invoer!B16,0),IF(Invoer!C16="jaar",ROUND(Invoer!B16/12,2),0))) -> 0 | M7: =IF(Invoer!C16="maand",Invoer!B16,IF(Invoer!C16="kwartaal",IF(Invoer!F16="mrt",Invoer!B16,0),IF(Invoer!C16="jaar",ROUND(Invoer!B16/12,2),0))) -> 0 | N7: =SUM(B7:M7) -> 0 | O7: =N7/12 -> 0
A8: TV / Internet | B8: =IF(Invoer!C17="maand",Invoer!B17,IF(Invoer!C17="kwartaal",IF(Invoer!F17="jan",Invoer!B17,0),IF(Invoer!C17="jaar",ROUND(Invoer!B17/12,2),0))) -> 0 | C8: =IF(Invoer!C17="maand",Invoer!B17,IF(Invoer!C17="kwartaal",IF(Invoer!F17="feb",Invoer!B17,0),IF(Invoer!C17="jaar",ROUND(Invoer!B17/12,2),0))) -> 0 | D8: =IF(Invoer!C17="maand",Invoer!B17,IF(Invoer!C17="kwartaal",IF(Invoer!F17="mrt",Invoer!B17,0),IF(Invoer!C17="jaar",ROUND(Invoer!B17/12,2),0))) -> 0 | E8: =IF(Invoer!C17="maand",Invoer!B17,IF(Invoer!C17="kwartaal",IF(Invoer!F17="jan",Invoer!B17,0),IF(Invoer!C17="jaar",ROUND(Invoer!B17/12,2),0))) -> 0 | F8: =IF(Invoer!C17="maand",Invoer!B17,IF(Invoer!C17="kwartaal",IF(Invoer!F17="feb",Invoer!B17,0),IF(Invoer!C17="jaar",ROUND(Invoer!B17/12,2),0))) -> 0 | G8: =IF(Invoer!C17="maand",Invoer!B17,IF(Invoer!C17="kwartaal",IF(Invoer!F17="mrt",Invoer!B17,0),IF(Invoer!C17="jaar",ROUND(Invoer!B17/12,2),0))) -> 0 | H8: =IF(Invoer!C17="maand",Invoer!B17,IF(Invoer!C17="kwartaal",IF(Invoer!F17="jan",Invoer!B17,0),IF(Invoer!C17="jaar",ROUND(Invoer!B17/12,2),0))) -> 0 | I8: =IF(Invoer!C17="maand",Invoer!B17,IF(Invoer!C17="kwartaal",IF(Invoer!F17="feb",Invoer!B17,0),IF(Invoer!C17="jaar",ROUND(Invoer!B17/12,2),0))) -> 0 | J8: =IF(Invoer!C17="maand",Invoer!B17,IF(Invoer!C17="kwartaal",IF(Invoer!F17="mrt",Invoer!B17,0),IF(Invoer!C17="jaar",ROUND(Invoer!B17/12,2),0))) -> 0 | K8: =IF(Invoer!C17="maand",Invoer!B17,IF(Invoer!C17="kwartaal",IF(Invoer!F17="jan",Invoer!B17,0),IF(Invoer!C17="jaar",ROUND(Invoer!B17/12,2),0))) -> 0 | L8: =IF(Invoer!C17="maand",Invoer!B17,IF(Invoer!C17="kwartaal",IF(Invoer!F17="feb",Invoer!B17,0),IF(Invoer!C17="jaar",ROUND(Invoer!B17/12,2),0))) -> 0 | M8: =IF(Invoer!C17="maand",Invoer!B17,IF(Invoer!C17="kwartaal",IF(Invoer!F17="mrt",Invoer!B17,0),IF(Invoer!C17="jaar",ROUND(Invoer!B17/12,2),0))) -> 0 | N8: =SUM(B8:M8) -> 0 | O8: =N8/12 -> 0
A9: Mobiele telefonie | B9: =IF(Invoer!C18="maand",Invoer!B18,IF(Invoer!C18="kwartaal",IF(Invoer!F18="jan",Invoer!B18,0),IF(Invoer!C18="jaar",ROUND(Invoer!B18/12,2),0))) -> 0 | C9: =IF(Invoer!C18="maand",Invoer!B18,IF(Invoer!C18="kwartaal",IF(Invoer!F18="feb",Invoer!B18,0),IF(Invoer!C18="jaar",ROUND(Invoer!B18/12,2),0))) -> 0 | D9: =IF(Invoer!C18="maand",Invoer!B18,IF(Invoer!C18="kwartaal",IF(Invoer!F18="mrt",Invoer!B18,0),IF(Invoer!C18="jaar",ROUND(Invoer!B18/12,2),0))) -> 0 | E9: =IF(Invoer!C18="maand",Invoer!B18,IF(Invoer!C18="kwartaal",IF(Invoer!F18="jan",Invoer!B18,0),IF(Invoer!C18="jaar",ROUND(Invoer!B18/12,2),0))) -> 0 | F9: =IF(Invoer!C18="maand",Invoer!B18,IF(Invoer!C18="kwartaal",IF(Invoer!F18="feb",Invoer!B18,0),IF(Invoer!C18="jaar",ROUND(Invoer!B18/12,2),0))) -> 0 | G9: =IF(Invoer!C18="maand",Invoer!B18,IF(Invoer!C18="kwartaal",IF(Invoer!F18="mrt",Invoer!B18,0),IF(Invoer!C18="jaar",ROUND(Invoer!B18/12,2),0))) -> 0 | H9: =IF(Invoer!C18="maand",Invoer!B18,IF(Invoer!C18="kwartaal",IF(Invoer!F18="jan",Invoer!B18,0),IF(Invoer!C18="jaar",ROUND(Invoer!B18/12,2),0))) -> 0 | I9: =IF(Invoer!C18="maand",Invoer!B18,IF(Invoer!C18="kwartaal",IF(Invoer!F18="feb",Invoer!B18,0),IF(Invoer!C18="jaar",ROUND(Invoer!B18/12,2),0))) -> 0 | J9: =IF(Invoer!C18="maand",Invoer!B18,IF(Invoer!C18="kwartaal",IF(Invoer!F18="mrt",Invoer!B18,0),IF(Invoer!C18="jaar",ROUND(Invoer!B18/12,2),0))) -> 0 | K9: =IF(Invoer!C18="maand",Invoer!B18,IF(Invoer!C18="kwartaal",IF(Invoer!F18="jan",Invoer!B18,0),IF(Invoer!C18="jaar",ROUND(Invoer!B18/12,2),0))) -> 0 | L9: =IF(Invoer!C18="maand",Invoer!B18,IF(Invoer!C18="kwartaal",IF(Invoer!F18="feb",Invoer!B18,0),IF(Invoer!C18="jaar",ROUND(Invoer!B18/12,2),0))) -> 0 | M9: =IF(Invoer!C18="maand",Invoer!B18,IF(Invoer!C18="kwartaal",IF(Invoer!F18="mrt",Invoer!B18,0),IF(Invoer!C18="jaar",ROUND(Invoer!B18/12,2),0))) -> 0 | N9: =SUM(B9:M9) -> 0 | O9: =N9/12 -> 0
A10: schoonmaker | B10: =IF(Invoer!C19="maand",Invoer!B19,IF(Invoer!C19="kwartaal",IF(Invoer!F19="jan",Invoer!B19,0),IF(Invoer!C19="jaar",ROUND(Invoer!B19/12,2),0))) -> 0 | C10: =IF(Invoer!C19="maand",Invoer!B19,IF(Invoer!C19="kwartaal",IF(Invoer!F19="feb",Invoer!B19,0),IF(Invoer!C19="jaar",ROUND(Invoer!B19/12,2),0))) -> 0 | D10: =IF(Invoer!C19="maand",Invoer!B19,IF(Invoer!C19="kwartaal",IF(Invoer!F19="mrt",Invoer!B19,0),IF(Invoer!C19="jaar",ROUND(Invoer!B19/12,2),0))) -> 0 | E10: =IF(Invoer!C19="maand",Invoer!B19,IF(Invoer!C19="kwartaal",IF(Invoer!F19="jan",Invoer!B19,0),IF(Invoer!C19="jaar",ROUND(Invoer!B19/12,2),0))) -> 0 | F10: =IF(Invoer!C19="maand",Invoer!B19,IF(Invoer!C19="kwartaal",IF(Invoer!F19="feb",Invoer!B19,0),IF(Invoer!C19="jaar",ROUND(Invoer!B19/12,2),0))) -> 0 | G10: =IF(Invoer!C19="maand",Invoer!B19,IF(Invoer!C19="kwartaal",IF(Invoer!F19="mrt",Invoer!B19,0),IF(Invoer!C19="jaar",ROUND(Invoer!B19/12,2),0))) -> 0 | H10: =IF(Invoer!C19="maand",Invoer!B19,IF(Invoer!C19="kwartaal",IF(Invoer!F19="jan",Invoer!B19,0),IF(Invoer!C19="jaar",ROUND(Invoer!B19/12,2),0))) -> 0 | I10: =IF(Invoer!C19="maand",Invoer!B19,IF(Invoer!C19="kwartaal",IF(Invoer!F19="feb",Invoer!B19,0),IF(Invoer!C19="jaar",ROUND(Invoer!B19/12,2),0))) -> 0 | J10: =IF(Invoer!C19="maand",Invoer!B19,IF(Invoer!C19="kwartaal",IF(Invoer!F19="mrt",Invoer!B19,0),IF(Invoer!C19="jaar",ROUND(Invoer!B19/12,2),0))) -> 0 | K10: =IF(Invoer!C19="maand",Invoer!B19,IF(Invoer!C19="kwartaal",IF(Invoer!F19="jan",Invoer!B19,0),IF(Invoer!C19="jaar",ROUND(Invoer!B19/12,2),0))) -> 0 | L10: =IF(Invoer!C19="maand",Invoer!B19,IF(Invoer!C19="kwartaal",IF(Invoer!F19="feb",Invoer!B19,0),IF(Invoer!C19="jaar",ROUND(Invoer!B19/12,2),0))) -> 0 | M10: =IF(Invoer!C19="maand",Invoer!B19,IF(Invoer!C19="kwartaal",IF(Invoer!F19="mrt",Invoer!B19,0),IF(Invoer!C19="jaar",ROUND(Invoer!B19/12,2),0))) -> 0 | N10: =SUM(B10:M10) -> 0 | O10: =N10/12 -> 0
A11: glazenwasser | B11: =IF(Invoer!C20="maand",Invoer!B20,IF(Invoer!C20="kwartaal",IF(Invoer!F20="jan",Invoer!B20,0),IF(Invoer!C20="jaar",ROUND(Invoer!B20/12,2),0))) -> 0 | C11: =IF(Invoer!C20="maand",Invoer!B20,IF(Invoer!C20="kwartaal",IF(Invoer!F20="feb",Invoer!B20,0),IF(Invoer!C20="jaar",ROUND(Invoer!B20/12,2),0))) -> 0 | D11: =IF(Invoer!C20="maand",Invoer!B20,IF(Invoer!C20="kwartaal",IF(Invoer!F20="mrt",Invoer!B20,0),IF(Invoer!C20="jaar",ROUND(Invoer!B20/12,2),0))) -> 0 | E11: =IF(Invoer!C20="maand",Invoer!B20,IF(Invoer!C20="kwartaal",IF(Invoer!F20="jan",Invoer!B20,0),IF(Invoer!C20="jaar",ROUND(Invoer!B20/12,2),0))) -> 0 | F11: =IF(Invoer!C20="maand",Invoer!B20,IF(Invoer!C20="kwartaal",IF(Invoer!F20="feb",Invoer!B20,0),IF(Invoer!C20="jaar",ROUND(Invoer!B20/12,2),0))) -> 0 | G11: =IF(Invoer!C20="maand",Invoer!B20,IF(Invoer!C20="kwartaal",IF(Invoer!F20="mrt",Invoer!B20,0),IF(Invoer!C20="jaar",ROUND(Invoer!B20/12,2),0))) -> 0 | H11: =IF(Invoer!C20="maand",Invoer!B20,IF(Invoer!C20="kwartaal",IF(Invoer!F20="jan",Invoer!B20,0),IF(Invoer!C20="jaar",ROUND(Invoer!B20/12,2),0))) -> 0 | I11: =IF(Invoer!C20="maand",Invoer!B20,IF(Invoer!C20="kwartaal",IF(Invoer!F20="feb",Invoer!B20,0),IF(Invoer!C20="jaar",ROUND(Invoer!B20/12,2),0))) -> 0 | J11: =IF(Invoer!C20="maand",Invoer!B20,IF(Invoer!C20="kwartaal",IF(Invoer!F20="mrt",Invoer!B20,0),IF(Invoer!C20="jaar",ROUND(Invoer!B20/12,2),0))) -> 0 | K11: =IF(Invoer!C20="maand",Invoer!B20,IF(Invoer!C20="kwartaal",IF(Invoer!F20="jan",Invoer!B20,0),IF(Invoer!C20="jaar",ROUND(Invoer!B20/12,2),0))) -> 0 | L11: =IF(Invoer!C20="maand",Invoer!B20,IF(Invoer!C20="kwartaal",IF(Invoer!F20="feb",Invoer!B20,0),IF(Invoer!C20="jaar",ROUND(Invoer!B20/12,2),0))) -> 0 | M11: =IF(Invoer!C20="maand",Invoer!B20,IF(Invoer!C20="kwartaal",IF(Invoer!F20="mrt",Invoer!B20,0),IF(Invoer!C20="jaar",ROUND(Invoer!B20/12,2),0))) -> 0 | N11: =SUM(B11:M11) -> 0 | O11: =N11/12 -> 0
A12: Streamingdiensten (Netflix / spotify) etc. | B12: =IF(Invoer!C21="maand",Invoer!B21,IF(Invoer!C21="kwartaal",IF(Invoer!F21="jan",Invoer!B21,0),IF(Invoer!C21="jaar",ROUND(Invoer!B21/12,2),0))) -> 0 | C12: =IF(Invoer!C21="maand",Invoer!B21,IF(Invoer!C21="kwartaal",IF(Invoer!F21="feb",Invoer!B21,0),IF(Invoer!C21="jaar",ROUND(Invoer!B21/12,2),0))) -> 0 | D12: =IF(Invoer!C21="maand",Invoer!B21,IF(Invoer!C21="kwartaal",IF(Invoer!F21="mrt",Invoer!B21,0),IF(Invoer!C21="jaar",ROUND(Invoer!B21/12,2),0))) -> 0 | E12: =IF(Invoer!C21="maand",Invoer!B21,IF(Invoer!C21="kwartaal",IF(Invoer!F21="jan",Invoer!B21,0),IF(Invoer!C21="jaar",ROUND(Invoer!B21/12,2),0))) -> 0 | F12: =IF(Invoer!C21="maand",Invoer!B21,IF(Invoer!C21="kwartaal",IF(Invoer!F21="feb",Invoer!B21,0),IF(Invoer!C21="jaar",ROUND(Invoer!B21/12,2),0))) -> 0 | G12: =IF(Invoer!C21="maand",Invoer!B21,IF(Invoer!C21="kwartaal",IF(Invoer!F21="mrt",Invoer!B21,0),IF(Invoer!C21="jaar",ROUND(Invoer!B21/12,2),0))) -> 0 | H12: =IF(Invoer!C21="maand",Invoer!B21,IF(Invoer!C21="kwartaal",IF(Invoer!F21="jan",Invoer!B21,0),IF(Invoer!C21="jaar",ROUND(Invoer!B21/12,2),0))) -> 0 | I12: =IF(Invoer!C21="maand",Invoer!B21,IF(Invoer!C21="kwartaal",IF(Invoer!F21="feb",Invoer!B21,0),IF(Invoer!C21="jaar",ROUND(Invoer!B21/12,2),0))) -> 0 | J12: =IF(Invoer!C21="maand",Invoer!B21,IF(Invoer!C21="kwartaal",IF(Invoer!F21="mrt",Invoer!B21,0),IF(Invoer!C21="jaar",ROUND(Invoer!B21/12,2),0))) -> 0 | K12: =IF(Invoer!C21="maand",Invoer!B21,IF(Invoer!C21="kwartaal",IF(Invoer!F21="jan",Invoer!B21,0),IF(Invoer!C21="jaar",ROUND(Invoer!B21/12,2),0))) -> 0 | L12: =IF(Invoer!C21="maand",Invoer!B21,IF(Invoer!C21="kwartaal",IF(Invoer!F21="feb",Invoer!B21,0),IF(Invoer!C21="jaar",ROUND(Invoer!B21/12,2),0))) -> 0 | M12: =IF(Invoer!C21="maand",Invoer!B21,IF(Invoer!C21="kwartaal",IF(Invoer!F21="mrt",Invoer!B21,0),IF(Invoer!C21="jaar",ROUND(Invoer!B21/12,2),0))) -> 0 | N12: =SUM(B12:M12) -> 0 | O12: =N12/12 -> 0
A13: Gas / electra | B13: =IF(Invoer!C22="maand",Invoer!B22,IF(Invoer!C22="kwartaal",IF(Invoer!F22="jan",Invoer!B22,0),IF(Invoer!C22="jaar",ROUND(Invoer!B22/12,2),0))) -> 0 | C13: =IF(Invoer!C22="maand",Invoer!B22,IF(Invoer!C22="kwartaal",IF(Invoer!F22="feb",Invoer!B22,0),IF(Invoer!C22="jaar",ROUND(Invoer!B22/12,2),0))) -> 0 | D13: =IF(Invoer!C22="maand",Invoer!B22,IF(Invoer!C22="kwartaal",IF(Invoer!F22="mrt",Invoer!B22,0),IF(Invoer!C22="jaar",ROUND(Invoer!B22/12,2),0))) -> 0 | E13: =IF(Invoer!C22="maand",Invoer!B22,IF(Invoer!C22="kwartaal",IF(Invoer!F22="jan",Invoer!B22,0),IF(Invoer!C22="jaar",ROUND(Invoer!B22/12,2),0))) -> 0 | F13: =IF(Invoer!C22="maand",Invoer!B22,IF(Invoer!C22="kwartaal",IF(Invoer!F22="feb",Invoer!B22,0),IF(Invoer!C22="jaar",ROUND(Invoer!B22/12,2),0))) -> 0 | G13: =IF(Invoer!C22="maand",Invoer!B22,IF(Invoer!C22="kwartaal",IF(Invoer!F22="mrt",Invoer!B22,0),IF(Invoer!C22="jaar",ROUND(Invoer!B22/12,2),0))) -> 0 | H13: =IF(Invoer!C22="maand",Invoer!B22,IF(Invoer!C22="kwartaal",IF(Invoer!F22="jan",Invoer!B22,0),IF(Invoer!C22="jaar",ROUND(Invoer!B22/12,2),0))) -> 0 | I13: =IF(Invoer!C22="maand",Invoer!B22,IF(Invoer!C22="kwartaal",IF(Invoer!F22="feb",Invoer!B22,0),IF(Invoer!C22="jaar",ROUND(Invoer!B22/12,2),0))) -> 0 | J13: =IF(Invoer!C22="maand",Invoer!B22,IF(Invoer!C22="kwartaal",IF(Invoer!F22="mrt",Invoer!B22,0),IF(Invoer!C22="jaar",ROUND(Invoer!B22/12,2),0))) -> 0 | K13: =IF(Invoer!C22="maand",Invoer!B22,IF(Invoer!C22="kwartaal",IF(Invoer!F22="jan",Invoer!B22,0),IF(Invoer!C22="jaar",ROUND(Invoer!B22/12,2),0))) -> 0 | L13: =IF(Invoer!C22="maand",Invoer!B22,IF(Invoer!C22="kwartaal",IF(Invoer!F22="feb",Invoer!B22,0),IF(Invoer!C22="jaar",ROUND(Invoer!B22/12,2),0))) -> 0 | M13: =IF(Invoer!C22="maand",Invoer!B22,IF(Invoer!C22="kwartaal",IF(Invoer!F22="mrt",Invoer!B22,0),IF(Invoer!C22="jaar",ROUND(Invoer!B22/12,2),0))) -> 0 | N13: =SUM(B13:M13) -> 0 | O13: =N13/12 -> 0
A14: Gemeentebelasting, waterbelasting, etc. | B14: =IF(Invoer!C23="maand",Invoer!B23,IF(Invoer!C23="kwartaal",IF(Invoer!F23="jan",Invoer!B23,0),IF(Invoer!C23="jaar",ROUND(Invoer!B23/12,2),0))) -> 0 | C14: =IF(Invoer!C23="maand",Invoer!B23,IF(Invoer!C23="kwartaal",IF(Invoer!F23="feb",Invoer!B23,0),IF(Invoer!C23="jaar",ROUND(Invoer!B23/12,2),0))) -> 0 | D14: =IF(Invoer!C23="maand",Invoer!B23,IF(Invoer!C23="kwartaal",IF(Invoer!F23="mrt",Invoer!B23,0),IF(Invoer!C23="jaar",ROUND(Invoer!B23/12,2),0))) -> 0 | E14: =IF(Invoer!C23="maand",Invoer!B23,IF(Invoer!C23="kwartaal",IF(Invoer!F23="jan",Invoer!B23,0),IF(Invoer!C23="jaar",ROUND(Invoer!B23/12,2),0))) -> 0 | F14: =IF(Invoer!C23="maand",Invoer!B23,IF(Invoer!C23="kwartaal",IF(Invoer!F23="feb",Invoer!B23,0),IF(Invoer!C23="jaar",ROUND(Invoer!B23/12,2),0))) -> 0 | G14: =IF(Invoer!C23="maand",Invoer!B23,IF(Invoer!C23="kwartaal",IF(Invoer!F23="mrt",Invoer!B23,0),IF(Invoer!C23="jaar",ROUND(Invoer!B23/12,2),0))) -> 0 | H14: =IF(Invoer!C23="maand",Invoer!B23,IF(Invoer!C23="kwartaal",IF(Invoer!F23="jan",Invoer!B23,0),IF(Invoer!C23="jaar",ROUND(Invoer!B23/12,2),0))) -> 0 | I14: =IF(Invoer!C23="maand",Invoer!B23,IF(Invoer!C23="kwartaal",IF(Invoer!F23="feb",Invoer!B23,0),IF(Invoer!C23="jaar",ROUND(Invoer!B23/12,2),0))) -> 0 | J14: =IF(Invoer!C23="maand",Invoer!B23,IF(Invoer!C23="kwartaal",IF(Invoer!F23="mrt",Invoer!B23,0),IF(Invoer!C23="jaar",ROUND(Invoer!B23/12,2),0))) -> 0 | K14: =IF(Invoer!C23="maand",Invoer!B23,IF(Invoer!C23="kwartaal",IF(Invoer!F23="jan",Invoer!B23,0),IF(Invoer!C23="jaar",ROUND(Invoer!B23/12,2),0))) -> 0 | L14: =IF(Invoer!C23="maand",Invoer!B23,IF(Invoer!C23="kwartaal",IF(Invoer!F23="feb",Invoer!B23,0),IF(Invoer!C23="jaar",ROUND(Invoer!B23/12,2),0))) -> 0 | M14: =IF(Invoer!C23="maand",Invoer!B23,IF(Invoer!C23="kwartaal",IF(Invoer!F23="mrt",Invoer!B23,0),IF(Invoer!C23="jaar",ROUND(Invoer!B23/12,2),0))) -> 0 | N14: =SUM(B14:M14) -> 0 | O14: =N14/12 -> 0
A15: verzekeringen (opstal, inboedel, WA, rechtsbijstand, etc.) | B15: =IF(Invoer!C24="maand",Invoer!B24,IF(Invoer!C24="kwartaal",IF(Invoer!F24="jan",Invoer!B24,0),IF(Invoer!C24="jaar",ROUND(Invoer!B24/12,2),0))) -> 0 | C15: =IF(Invoer!C24="maand",Invoer!B24,IF(Invoer!C24="kwartaal",IF(Invoer!F24="feb",Invoer!B24,0),IF(Invoer!C24="jaar",ROUND(Invoer!B24/12,2),0))) -> 0 | D15: =IF(Invoer!C24="maand",Invoer!B24,IF(Invoer!C24="kwartaal",IF(Invoer!F24="mrt",Invoer!B24,0),IF(Invoer!C24="jaar",ROUND(Invoer!B24/12,2),0))) -> 0 | E15: =IF(Invoer!C24="maand",Invoer!B24,IF(Invoer!C24="kwartaal",IF(Invoer!F24="jan",Invoer!B24,0),IF(Invoer!C24="jaar",ROUND(Invoer!B24/12,2),0))) -> 0 | F15: =IF(Invoer!C24="maand",Invoer!B24,IF(Invoer!C24="kwartaal",IF(Invoer!F24="feb",Invoer!B24,0),IF(Invoer!C24="jaar",ROUND(Invoer!B24/12,2),0))) -> 0 | G15: =IF(Invoer!C24="maand",Invoer!B24,IF(Invoer!C24="kwartaal",IF(Invoer!F24="mrt",Invoer!B24,0),IF(Invoer!C24="jaar",ROUND(Invoer!B24/12,2),0))) -> 0 | H15: =IF(Invoer!C24="maand",Invoer!B24,IF(Invoer!C24="kwartaal",IF(Invoer!F24="jan",Invoer!B24,0),IF(Invoer!C24="jaar",ROUND(Invoer!B24/12,2),0))) -> 0 | I15: =IF(Invoer!C24="maand",Invoer!B24,IF(Invoer!C24="kwartaal",IF(Invoer!F24="feb",Invoer!B24,0),IF(Invoer!C24="jaar",ROUND(Invoer!B24/12,2),0))) -> 0 | J15: =IF(Invoer!C24="maand",Invoer!B24,IF(Invoer!C24="kwartaal",IF(Invoer!F24="mrt",Invoer!B24,0),IF(Invoer!C24="jaar",ROUND(Invoer!B24/12,2),0))) -> 0 | K15: =IF(Invoer!C24="maand",Invoer!B24,IF(Invoer!C24="kwartaal",IF(Invoer!F24="jan",Invoer!B24,0),IF(Invoer!C24="jaar",ROUND(Invoer!B24/12,2),0))) -> 0 | L15: =IF(Invoer!C24="maand",Invoer!B24,IF(Invoer!C24="kwartaal",IF(Invoer!F24="feb",Invoer!B24,0),IF(Invoer!C24="jaar",ROUND(Invoer!B24/12,2),0))) -> 0 | M15: =IF(Invoer!C24="maand",Invoer!B24,IF(Invoer!C24="kwartaal",IF(Invoer!F24="mrt",Invoer!B24,0),IF(Invoer!C24="jaar",ROUND(Invoer!B24/12,2),0))) -> 0 | N15: =SUM(B15:M15) -> 0 | O15: =N15/12 -> 0
... A25: vakantie | B25: =IF(Invoer!C34="maand",Invoer!B34,IF(Invoer!C34="kwartaal",IF(Invoer!F34="jan",Invoer!B34,0),IF(Invoer!C34="jaar",ROUND(Invoer!B34/12,2),0))) -> 0 | C25: =IF(Invoer!C34="maand",Invoer!B34,IF(Invoer!C34="kwartaal",IF(Invoer!F34="feb",Invoer!B34,0),IF(Invoer!C34="jaar",ROUND(Invoer!B34/12,2),0))) -> 0 | D25: =IF(Invoer!C34="maand",Invoer!B34,IF(Invoer!C34="kwartaal",IF(Invoer!F34="mrt",Invoer!B34,0),IF(Invoer!C34="jaar",ROUND(Invoer!B34/12,2),0))) -> 0 | E25: =IF(Invoer!C34="maand",Invoer!B34,IF(Invoer!C34="kwartaal",IF(Invoer!F34="jan",Invoer!B34,0),IF(Invoer!C34="jaar",ROUND(Invoer!B34/12,2),0))) -> 0 | F25: =IF(Invoer!C34="maand",Invoer!B34,IF(Invoer!C34="kwartaal",IF(Invoer!F34="feb",Invoer!B34,0),IF(Invoer!C34="jaar",ROUND(Invoer!B34/12,2),0))) -> 0 | G25: =IF(Invoer!C34="maand",Invoer!B34,IF(Invoer!C34="kwartaal",IF(Invoer!F34="mrt",Invoer!B34,0),IF(Invoer!C34="jaar",ROUND(Invoer!B34/12,2),0))) -> 0 | H25: =IF(Invoer!C34="maand",Invoer!B34,IF(Invoer!C34="kwartaal",IF(Invoer!F34="jan",Invoer!B34,0),IF(Invoer!C34="jaar",ROUND(Invoer!B34/12,2),0))) -> 0 | I25: =IF(Invoer!C34="maand",Invoer!B34,IF(Invoer!C34="kwartaal",IF(Invoer!F34="feb",Invoer!B34,0),IF(Invoer!C34="jaar",ROUND(Invoer!B34/12,2),0))) -> 0 | J25: =IF(Invoer!C34="maand",Invoer!B34,IF(Invoer!C34="kwartaal",IF(Invoer!F34="mrt",Invoer!B34,0),IF(Invoer!C34="jaar",ROUND(Invoer!B34/12,2),0))) -> 0 | K25: =IF(Invoer!C34="maand",Invoer!B34,IF(Invoer!C34="kwartaal",IF(Invoer!F34="jan",Invoer!B34,0),IF(Invoer!C34="jaar",ROUND(Invoer!B34/12,2),0))) -> 0 | L25: =IF(Invoer!C34="maand",Invoer!B34,IF(Invoer!C34="kwartaal",IF(Invoer!F34="feb",Invoer!B34,0),IF(Invoer!C34="jaar",ROUND(Invoer!B34/12,2),0))) -> 0 | M25: =IF(Invoer!C34="maand",Invoer!B34,IF(Invoer!C34="kwartaal",IF(Invoer!F34="mrt",Invoer!B34,0),IF(Invoer!C34="jaar",ROUND(Invoer!B34/12,2),0))) -> 0 | N25: =SUM(B25:M25) -> 0 | O25: =N25/12 -> 0
A26: =Invoer!A35 -> overig 1 | B26: =IF(Invoer!C35="maand",Invoer!B35,IF(Invoer!C35="kwartaal",IF(Invoer!F35="jan",Invoer!B35,0),IF(Invoer!C35="jaar",ROUND(Invoer!B35/12,2),0))) -> 0 | C26: =IF(Invoer!C35="maand",Invoer!B35,IF(Invoer!C35="kwartaal",IF(Invoer!F35="feb",Invoer!B35,0),IF(Invoer!C35="jaar",ROUND(Invoer!B35/12,2),0))) -> 0 | D26: =IF(Invoer!C35="maand",Invoer!B35,IF(Invoer!C35="kwartaal",IF(Invoer!F35="mrt",Invoer!B35,0),IF(Invoer!C35="jaar",ROUND(Invoer!B35/12,2),0))) -> 0 | E26: =IF(Invoer!C35="maand",Invoer!B35,IF(Invoer!C35="kwartaal",IF(Invoer!F35="jan",Invoer!B35,0),IF(Invoer!C35="jaar",ROUND(Invoer!B35/12,2),0))) -> 0 | F26: =IF(Invoer!C35="maand",Invoer!B35,IF(Invoer!C35="kwartaal",IF(Invoer!F35="feb",Invoer!B35,0),IF(Invoer!C35="jaar",ROUND(Invoer!B35/12,2),0))) -> 0 | G26: =IF(Invoer!C35="maand",Invoer!B35,IF(Invoer!C35="kwartaal",IF(Invoer!F35="mrt",Invoer!B35,0),IF(Invoer!C35="jaar",ROUND(Invoer!B35/12,2),0))) -> 0 | H26: =IF(Invoer!C35="maand",Invoer!B35,IF(Invoer!C35="kwartaal",IF(Invoer!F35="jan",Invoer!B35,0),IF(Invoer!C35="jaar",ROUND(Invoer!B35/12,2),0))) -> 0 | I26: =IF(Invoer!C35="maand",Invoer!B35,IF(Invoer!C35="kwartaal",IF(Invoer!F35="feb",Invoer!B35,0),IF(Invoer!C35="jaar",ROUND(Invoer!B35/12,2),0))) -> 0 | J26: =IF(Invoer!C35="maand",Invoer!B35,IF(Invoer!C35="kwartaal",IF(Invoer!F35="mrt",Invoer!B35,0),IF(Invoer!C35="jaar",ROUND(Invoer!B35/12,2),0))) -> 0 | K26: =IF(Invoer!C35="maand",Invoer!B35,IF(Invoer!C35="kwartaal",IF(Invoer!F35="jan",Invoer!B35,0),IF(Invoer!C35="jaar",ROUND(Invoer!B35/12,2),0))) -> 0 | L26: =IF(Invoer!C35="maand",Invoer!B35,IF(Invoer!C35="kwartaal",IF(Invoer!F35="feb",Invoer!B35,0),IF(Invoer!C35="jaar",ROUND(Invoer!B35/12,2),0))) -> 0 | M26: =IF(Invoer!C35="maand",Invoer!B35,IF(Invoer!C35="kwartaal",IF(Invoer!F35="mrt",Invoer!B35,0),IF(Invoer!C35="jaar",ROUND(Invoer!B35/12,2),0))) -> 0 | N26: =SUM(B26:M26) -> 0 | O26: =N26/12 -> 0
A27: =Invoer!A36 -> overig 2 | B27: =IF(Invoer!C36="maand",Invoer!B36,IF(Invoer!C36="kwartaal",IF(Invoer!F36="jan",Invoer!B36,0),IF(Invoer!C36="jaar",ROUND(Invoer!B36/12,2),0))) -> 0 | C27: =IF(Invoer!C36="maand",Invoer!B36,IF(Invoer!C36="kwartaal",IF(Invoer!F36="feb",Invoer!B36,0),IF(Invoer!C36="jaar",ROUND(Invoer!B36/12,2),0))) -> 0 | D27: =IF(Invoer!C36="maand",Invoer!B36,IF(Invoer!C36="kwartaal",IF(Invoer!F36="mrt",Invoer!B36,0),IF(Invoer!C36="jaar",ROUND(Invoer!B36/12,2),0))) -> 0 | E27: =IF(Invoer!C36="maand",Invoer!B36,IF(Invoer!C36="kwartaal",IF(Invoer!F36="jan",Invoer!B36,0),IF(Invoer!C36="jaar",ROUND(Invoer!B36/12,2),0))) -> 0 | F27: =IF(Invoer!C36="maand",Invoer!B36,IF(Invoer!C36="kwartaal",IF(Invoer!F36="feb",Invoer!B36,0),IF(Invoer!C36="jaar",ROUND(Invoer!B36/12,2),0))) -> 0 | G27: =IF(Invoer!C36="maand",Invoer!B36,IF(Invoer!C36="kwartaal",IF(Invoer!F36="mrt",Invoer!B36,0),IF(Invoer!C36="jaar",ROUND(Invoer!B36/12,2),0))) -> 0 | H27: =IF(Invoer!C36="maand",Invoer!B36,IF(Invoer!C36="kwartaal",IF(Invoer!F36="jan",Invoer!B36,0),IF(Invoer!C36="jaar",ROUND(Invoer!B36/12,2),0))) -> 0 | I27: =IF(Invoer!C36="maand",Invoer!B36,IF(Invoer!C36="kwartaal",IF(Invoer!F36="feb",Invoer!B36,0),IF(Invoer!C36="jaar",ROUND(Invoer!B36/12,2),0))) -> 0 | J27: =IF(Invoer!C36="maand",Invoer!B36,IF(Invoer!C36="kwartaal",IF(Invoer!F36="mrt",Invoer!B36,0),IF(Invoer!C36="jaar",ROUND(Invoer!B36/12,2),0))) -> 0 | K27: =IF(Invoer!C36="maand",Invoer!B36,IF(Invoer!C36="kwartaal",IF(Invoer!F36="jan",Invoer!B36,0),IF(Invoer!C36="jaar",ROUND(Invoer!B36/12,2),0))) -> 0 | L27: =IF(Invoer!C36="maand",Invoer!B36,IF(Invoer!C36="kwartaal",IF(Invoer!F36="feb",Invoer!B36,0),IF(Invoer!C36="jaar",ROUND(Invoer!B36/12,2),0))) -> 0 | M27: =IF(Invoer!C36="maand",Invoer!B36,IF(Invoer!C36="kwartaal",IF(Invoer!F36="mrt",Invoer!B36,0),IF(Invoer!C36="jaar",ROUND(Invoer!B36/12,2),0))) -> 0 | N27: =SUM(B27:M27) -> 0 | O27: =N27/12 -> 0
A28: =Invoer!A37 -> overig 3 | B28: =IF(Invoer!C37="maand",Invoer!B37,IF(Invoer!C37="kwartaal",IF(Invoer!F37="jan",Invoer!B37,0),IF(Invoer!C37="jaar",ROUND(Invoer!B37/12,2),0))) -> 0 | C28: =IF(Invoer!C37="maand",Invoer!B37,IF(Invoer!C37="kwartaal",IF(Invoer!F37="feb",Invoer!B37,0),IF(Invoer!C37="jaar",ROUND(Invoer!B37/12,2),0))) -> 0 | D28: =IF(Invoer!C37="maand",Invoer!B37,IF(Invoer!C37="kwartaal",IF(Invoer!F37="mrt",Invoer!B37,0),IF(Invoer!C37="jaar",ROUND(Invoer!B37/12,2),0))) -> 0 | E28: =IF(Invoer!C37="maand",Invoer!B37,IF(Invoer!C37="kwartaal",IF(Invoer!F37="jan",Invoer!B37,0),IF(Invoer!C37="jaar",ROUND(Invoer!B37/12,2),0))) -> 0 | F28: =IF(Invoer!C37="maand",Invoer!B37,IF(Invoer!C37="kwartaal",IF(Invoer!F37="feb",Invoer!B37,0),IF(Invoer!C37="jaar",ROUND(Invoer!B37/12,2),0))) -> 0 | G28: =IF(Invoer!C37="maand",Invoer!B37,IF(Invoer!C37="kwartaal",IF(Invoer!F37="mrt",Invoer!B37,0),IF(Invoer!C37="jaar",ROUND(Invoer!B37/12,2),0))) -> 0 | H28: =IF(Invoer!C37="maand",Invoer!B37,IF(Invoer!C37="kwartaal",IF(Invoer!F37="jan",Invoer!B37,0),IF(Invoer!C37="jaar",ROUND(Invoer!B37/12,2),0))) -> 0 | I28: =IF(Invoer!C37="maand",Invoer!B37,IF(Invoer!C37="kwartaal",IF(Invoer!F37="feb",Invoer!B37,0),IF(Invoer!C37="jaar",ROUND(Invoer!B37/12,2),0))) -> 0 | J28: =IF(Invoer!C37="maand",Invoer!B37,IF(Invoer!C37="kwartaal",IF(Invoer!F37="mrt",Invoer!B37,0),IF(Invoer!C37="jaar",ROUND(Invoer!B37/12,2),0))) -> 0 | K28: =IF(Invoer!C37="maand",Invoer!B37,IF(Invoer!C37="kwartaal",IF(Invoer!F37="jan",Invoer!B37,0),IF(Invoer!C37="jaar",ROUND(Invoer!B37/12,2),0))) -> 0 | L28: =IF(Invoer!C37="maand",Invoer!B37,IF(Invoer!C37="kwartaal",IF(Invoer!F37="feb",Invoer!B37,0),IF(Invoer!C37="jaar",ROUND(Invoer!B37/12,2),0))) -> 0 | M28: =IF(Invoer!C37="maand",Invoer!B37,IF(Invoer!C37="kwartaal",IF(Invoer!F37="mrt",Invoer!B37,0),IF(Invoer!C37="jaar",ROUND(Invoer!B37/12,2),0))) -> 0 | N28: =SUM(B28:M28) -> 0 | O28: =N28/12 -> 0
A29: =Invoer!A38 -> overig 4 | B29: =IF(Invoer!C38="maand",Invoer!B38,IF(Invoer!C38="kwartaal",IF(Invoer!F38="jan",Invoer!B38,0),IF(Invoer!C38="jaar",ROUND(Invoer!B38/12,2),0))) -> 0 | C29: =IF(Invoer!C38="maand",Invoer!B38,IF(Invoer!C38="kwartaal",IF(Invoer!F38="feb",Invoer!B38,0),IF(Invoer!C38="jaar",ROUND(Invoer!B38/12,2),0))) -> 0 | D29: =IF(Invoer!C38="maand",Invoer!B38,IF(Invoer!C38="kwartaal",IF(Invoer!F38="mrt",Invoer!B38,0),IF(Invoer!C38="jaar",ROUND(Invoer!B38/12,2),0))) -> 0 | E29: =IF(Invoer!C38="maand",Invoer!B38,IF(Invoer!C38="kwartaal",IF(Invoer!F38="jan",Invoer!B38,0),IF(Invoer!C38="jaar",ROUND(Invoer!B38/12,2),0))) -> 0 | F29: =IF(Invoer!C38="maand",Invoer!B38,IF(Invoer!C38="kwartaal",IF(Invoer!F38="feb",Invoer!B38,0),IF(Invoer!C38="jaar",ROUND(Invoer!B38/12,2),0))) -> 0 | G29: =IF(Invoer!C38="maand",Invoer!B38,IF(Invoer!C38="kwartaal",IF(Invoer!F38="mrt",Invoer!B38,0),IF(Invoer!C38="jaar",ROUND(Invoer!B38/12,2),0))) -> 0 | H29: =IF(Invoer!C38="maand",Invoer!B38,IF(Invoer!C38="kwartaal",IF(Invoer!F38="jan",Invoer!B38,0),IF(Invoer!C38="jaar",ROUND(Invoer!B38/12,2),0))) -> 0 | I29: =IF(Invoer!C38="maand",Invoer!B38,IF(Invoer!C38="kwartaal",IF(Invoer!F38="feb",Invoer!B38,0),IF(Invoer!C38="jaar",ROUND(Invoer!B38/12,2),0))) -> 0 | J29: =IF(Invoer!C38="maand",Invoer!B38,IF(Invoer!C38="kwartaal",IF(Invoer!F38="mrt",Invoer!B38,0),IF(Invoer!C38="jaar",ROUND(Invoer!B38/12,2),0))) -> 0 | K29: =IF(Invoer!C38="maand",Invoer!B38,IF(Invoer!C38="kwartaal",IF(Invoer!F38="jan",Invoer!B38,0),IF(Invoer!C38="jaar",ROUND(Invoer!B38/12,2),0))) -> 0 | L29: =IF(Invoer!C38="maand",Invoer!B38,IF(Invoer!C38="kwartaal",IF(Invoer!F38="feb",Invoer!B38,0),IF(Invoer!C38="jaar",ROUND(Invoer!B38/12,2),0))) -> 0 | M29: =IF(Invoer!C38="maand",Invoer!B38,IF(Invoer!C38="kwartaal",IF(Invoer!F38="mrt",Invoer!B38,0),IF(Invoer!C38="jaar",ROUND(Invoer!B38/12,2),0))) -> 0 | N29: =SUM(B29:M29) -> 0 | O29: =N29/12 -> 0
A30: =Invoer!A39 -> overig 5 | B30: =IF(Invoer!C39="maand",Invoer!B39,IF(Invoer!C39="kwartaal",IF(Invoer!F39="jan",Invoer!B39,0),IF(Invoer!C39="jaar",ROUND(Invoer!B39/12,2),0))) -> 0 | C30: =IF(Invoer!C39="maand",Invoer!B39,IF(Invoer!C39="kwartaal",IF(Invoer!F39="feb",Invoer!B39,0),IF(Invoer!C39="jaar",ROUND(Invoer!B39/12,2),0))) -> 0 | D30: =IF(Invoer!C39="maand",Invoer!B39,IF(Invoer!C39="kwartaal",IF(Invoer!F39="mrt",Invoer!B39,0),IF(Invoer!C39="jaar",ROUND(Invoer!B39/12,2),0))) -> 0 | E30: =IF(Invoer!C39="maand",Invoer!B39,IF(Invoer!C39="kwartaal",IF(Invoer!F39="jan",Invoer!B39,0),IF(Invoer!C39="jaar",ROUND(Invoer!B39/12,2),0))) -> 0 | F30: =IF(Invoer!C39="maand",Invoer!B39,IF(Invoer!C39="kwartaal",IF(Invoer!F39="feb",Invoer!B39,0),IF(Invoer!C39="jaar",ROUND(Invoer!B39/12,2),0))) -> 0 | G30: =IF(Invoer!C39="maand",Invoer!B39,IF(Invoer!C39="kwartaal",IF(Invoer!F39="mrt",Invoer!B39,0),IF(Invoer!C39="jaar",ROUND(Invoer!B39/12,2),0))) -> 0 | H30: =IF(Invoer!C39="maand",Invoer!B39,IF(Invoer!C39="kwartaal",IF(Invoer!F39="jan",Invoer!B39,0),IF(Invoer!C39="jaar",ROUND(Invoer!B39/12,2),0))) -> 0 | I30: =IF(Invoer!C39="maand",Invoer!B39,IF(Invoer!C39="kwartaal",IF(Invoer!F39="feb",Invoer!B39,0),IF(Invoer!C39="jaar",ROUND(Invoer!B39/12,2),0))) -> 0 | J30: =IF(Invoer!C39="maand",Invoer!B39,IF(Invoer!C39="kwartaal",IF(Invoer!F39="mrt",Invoer!B39,0),IF(Invoer!C39="jaar",ROUND(Invoer!B39/12,2),0))) -> 0 | K30: =IF(Invoer!C39="maand",Invoer!B39,IF(Invoer!C39="kwartaal",IF(Invoer!F39="jan",Invoer!B39,0),IF(Invoer!C39="jaar",ROUND(Invoer!B39/12,2),0))) -> 0 | L30: =IF(Invoer!C39="maand",Invoer!B39,IF(Invoer!C39="kwartaal",IF(Invoer!F39="feb",Invoer!B39,0),IF(Invoer!C39="jaar",ROUND(Invoer!B39/12,2),0))) -> 0 | M30: =IF(Invoer!C39="maand",Invoer!B39,IF(Invoer!C39="kwartaal",IF(Invoer!F39="mrt",Invoer!B39,0),IF(Invoer!C39="jaar",ROUND(Invoer!B39/12,2),0))) -> 0 | N30: =SUM(B30:M30) -> 0 | O30: =N30/12 -> 0
A31: Totaal uitgaven | B31: =SUM(B4:B30) -> 100 | C31: =SUM(C4:C30) -> 100 | D31: =SUM(D4:D30) -> 100 | E31: =SUM(E4:E30) -> 100 | F31: =SUM(F4:F30) -> 100 | G31: =SUM(G4:G30) -> 100 | H31: =SUM(H4:H30) -> 100 | I31: =SUM(I4:I30) -> 100 | ... O31: =SUM(O4:O30) -> 100
A32: Totaal uitgaven excl. hypotheek/huur | B32: =B31-B4 -> 0 | C32: =C31-C4 -> 0 | D32: =D31-D4 -> 0 | E32: =E31-E4 -> 0 | F32: =F31-F4 -> 0 | G32: =G31-G4 -> 0 | H32: =H31-H4 -> 0 | I32: =I31-I4 -> 0 | ... O32: =O31-O4 -> 0
A35: Toelichting: stel per post de kwartaalstartmaand in via het Invoer-tabblad (kolom F). jan = jan/apr/jul/okt | feb = feb/mei/aug/nov | mrt = mrt/jun/sep/dec. Jaarposten worden gelijkmatig over 12 maanden verdeeld.
